BEGIN:VCALENDAR
VERSION:2.0
PRODID:-//Trybe - ECPv6.15.20//NONSGML v1.0//EN
CALSCALE:GREGORIAN
METHOD:PUBLISH
X-WR-CALNAME:Trybe
X-ORIGINAL-URL:https://trybepnw.com
X-WR-CALDESC:Events for Trybe
REFRESH-INTERVAL;VALUE=DURATION:PT1H
X-Robots-Tag:noindex
X-PUBLISHED-TTL:PT1H
BEGIN:VTIMEZONE
TZID:UTC
BEGIN:STANDARD
TZOFFSETFROM:+0000
TZOFFSETTO:+0000
TZNAME:UTC
DTSTART:20250101T000000
END:STANDARD
END:VTIMEZONE
BEGIN:VEVENT
DTSTART;TZID=UTC:20260403T160000
DTEND;TZID=UTC:20260425T190000
DTSTAMP:20260424T133859
CREATED:20260213T103009Z
LAST-MODIFIED:20260213T103009Z
UID:3673-1775232000-1777143600@trybepnw.com
SUMMARY:50 Years of Movement – A Bloomsday Commemorative Exhibit | Terrain
DESCRIPTION:50 Years of Movement is a commemorative exhibition honoring Bloomsday’s 50-year legacy and its lasting impact on Spokane. \nThis immersive exhibit explores how the race has evolved over five decades while celebrating the people\, creativity\, and community spirit that have shaped it. Visitors will experience a curated collection of race memorabilia\, archival imagery\, and historical materials that reflect Bloomsday’s growth and cultural significance. \nThe exhibition also highlights Bloomsday’s connection to the arts\, featuring the local designers behind the iconic finisher shirts and the creative legacy of artist Ken Spiering\, whose commissioned posters helped define the event’s visual identity. Ken Spiering will participate in a poster signing during the exhibition. \n50 Years of Movement invites the community to reflect on shared memories\, movement as connection\, and the enduring pride Bloomsday continues to inspire across generations. \nExhibition Dates: April 3 – April 25\, 2026Opening Reception: April 3 | 5:00 PM – 8:00 PMGallery Hours: Thursday – Saturday | 4:00 PM – 7:00 PM \nLocation: Terrain Gallery628 N Monroe StSpokane\, WA \nEvent Type: In-person
URL:https://trybepnw.com/event/50-years-of-movement-a-bloomsday-commemorative-exhibit-terrain/
LOCATION:Terrain\, 314 W Riverside Ave\, Spokane\, WA\, 99201\, United States
CATEGORIES:Art Exhibit
ATTACH;FMTTYPE=image/jpeg:https://trybepnw.com/wp-content/uploads/2026/02/618082122_1738324040819809_5540233266163139308_n.jpg
ORGANIZER;CN="Terrain":MAILTO:team@terrainspokane.com
END:VEVENT
BEGIN:VEVENT
DTSTART;TZID=UTC:20260424T180000
DTEND;TZID=UTC:20260424T203000
DTSTAMP:20260424T133859
CREATED:20260205T184946Z
LAST-MODIFIED:20260205T184946Z
UID:3531-1777053600-1777062600@trybepnw.com
SUMMARY:4th Annual A Women's Worth Gala
DESCRIPTION:Come join us for an unforgettable evening at the DoubleTree by Hilton Hotel Spokane City Center. This event is a celebration of the incredible worth and value of women who's re-entering in our community. Get ready for a night of empowerment\, inspiration\, and fun! \nOur gala will feature music\, delicious food\, inspiring speakers\, silent auction and photos of opportunities to connect with other amazing men and women. Dress to impress and get ready to celebrate the strength and beauty of future entrepreneurs\, mentors and motivational speakers. \nDon't miss out on this special evening dedicated in honoring the worth of every woman. Grab your tickets or table now and get ready to be part of something truly special! \n\n\n\n\nGiving every woman a chance to DREAM AGAIN!
URL:https://trybepnw.com/event/4th-annual-a-womens-worth-gala/
LOCATION:Double Tree Hilton Hotel
CATEGORIES:Fundraiser
ATTACH;FMTTYPE=image/jpeg:https://trybepnw.com/wp-content/uploads/2026/02/AWWflyer-updated.jpg
END:VEVENT
BEGIN:VEVENT
DTSTART;TZID=UTC:20260425T160000
DTEND;TZID=UTC:20260425T180000
DTSTAMP:20260424T133859
CREATED:20260326T153853Z
LAST-MODIFIED:20260326T153854Z
UID:3913-1777132800-1777140000@trybepnw.com
SUMMARY:Second Annual Miss Juneteenth Scholarship Program
DESCRIPTION:Spokane\, are you ready? Because we are! \n\n\n\n\n\n\nThe Miss Juneteenth Scholarship Program will take place on April 25\, 2026\, at SCC Auditorium from 4 to 6 PM. To participate\, candidates must be between the ages of 15 and 18\, have a minimum GPA of 3.0\, have no criminal record\, provide two letters of recommendation\, submit their previous school year grades/transcripts\, and reside in Spokane County.
URL:https://trybepnw.com/event/second-annual-miss-juneteenth-scholarship-program/
LOCATION:SCC Auditorium
CATEGORIES:Black History Event,Youth & Kids Event,Youth Event
ATTACH;FMTTYPE=image/jpeg:https://trybepnw.com/wp-content/uploads/2026/03/Juneteenthpageant.jpg
ORGANIZER;CN="MLK Jr Community Center":MAILTO:info@mlkspokane.org
END:VEVENT
BEGIN:VEVENT
DTSTART;TZID=UTC:20260502T140000
DTEND;TZID=UTC:20260502T160000
DTSTAMP:20260424T133859
CREATED:20260212T013740Z
LAST-MODIFIED:20260212T013740Z
UID:3580-1777730400-1777737600@trybepnw.com
SUMMARY:30th Annual African American Graduation Celebration - REGISTER TODAY!
DESCRIPTION:30th Annual African American Graduation Celebration \nDate: Saturday\, May 2\, 2026Time: 2:00 PM – 4:00 PMLocation: Gonzaga UniversityMyrtle Woldson Performing Arts Center302 E Boone Avenue\, Spokane\, Washington \nHosted by the Spokane African American Graduation Committee \nHigh school and college graduates are invited to participate in the 30th Annual African American Graduation Celebration\, a longstanding community tradition honoring academic excellence and cultural legacy. \nThis ceremony recognizes African American graduates from K through 12 schools\, colleges\, and universities across Spokane and surrounding areas. The event centers cultural pride\, achievement\, and community support as students step into their next chapter. \nImportant reminders:• Register using the link below• Upload your official transcript to be eligible for High Honors recognition• Registration deadline: Friday\, April 17• Graduate lineup begins at 12:15 PM• Doors open at 1:00 PM \nRegistration link:https://www.aagspokane.org/rsvp
URL:https://trybepnw.com/event/30th-annual-african-american-graduation-celebration-register-today/
LOCATION:Myrtle Woldson Performing Arts Center\, 302 E Boone Avenue\, Spokane\, WA\, 99202\, United States
CATEGORIES:Community Event,Graduation
ATTACH;FMTTYPE=image/jpeg:https://trybepnw.com/wp-content/uploads/2026/02/630542589_1333905608752667_162016234093355407_n.jpg
ORGANIZER;CN="Spokane African American Graduation Committee":MAILTO:aagradspokane@gmail.com
END:VEVENT
BEGIN:VEVENT
DTSTART;TZID=UTC:20260515T123000
DTEND;TZID=UTC:20260515T163000
DTSTAMP:20260424T133859
CREATED:20260326T155417Z
LAST-MODIFIED:20260326T155417Z
UID:3920-1778848200-1778862600@trybepnw.com
SUMMARY:Free Legal Clinic
DESCRIPTION: FREE Legal Clinic – Get Help with Your Legal Questions! Wednesday\, May 15th\, 2026 12:30 PM – 4:30 PM (check‑in by 4:00 PM) The Carl Maxey Center – 3114 E 5th Ave\, Spokane\, WA 99207 ￼\nAre you facing a legal issue and not sure what to do next? Join us for a FREE Legal Clinic hosted by the Sandy Williams Justice Center\, a part of the Carl Maxey Center! ￼ Chat one‑on‑one with volunteer attorneys and legal professionals Get advice and guidance to help you understand your options Learn how to navigate your legal situation with confidenceThis is a 30‑minute legal consultation: perfect if you’re unsure where to start or need clarity on your next steps. ￼\n How it Works: Plan to arrive early and check in by 4:00 PM Consultations are on a first‑come\, first‑served basis Legal professionals will not be able to represent you in court\, but they can help you understand your case and possible options Pre‑registration is available via email: selfhelp@carlmaxeycenter.org  Link to Intake Form: carlmaxeycenter.org/swjc\n Bring any documents or notes related to your situation to make the most of your consultation!\nHelp spread the word. Share this post with your friends and family who might benefit!
URL:https://trybepnw.com/event/free-legal-clinic-4/
LOCATION:Carl Maxey Center\, 3114 E 5th Ave\, Spokane\, WA\, 99202\, United States
CATEGORIES:Resource Fair
ATTACH;FMTTYPE=image/jpeg:https://trybepnw.com/wp-content/uploads/2026/03/cmc_may13legalclinic.jpg
END:VEVENT
BEGIN:VEVENT
DTSTART;TZID=UTC:20260516T110000
DTEND;TZID=UTC:20260516T130000
DTSTAMP:20260424T133859
CREATED:20260330T220410Z
LAST-MODIFIED:20260330T220410Z
UID:3959-1778929200-1778936400@trybepnw.com
SUMMARY:White Rose Brunch
DESCRIPTION:Join the Spokane (WA) Chapter of The Links\, Incorporated at their signature fundraiser\, the White Rose Brunch\, for an afternoon of elegance\, purpose\, and community \n\n\n\n\n\nThis isn’t just brunch… it’s impact. \n\nEvery ticket supports scholarships and programs that uplift and empower our community.\n\n\n Enjoy:\n• Beautiful ambiance\n• Music + art\n• Meaningful connections\n• A chance to give back in style\n\n\n\n Saturday\, May 16\n 11 AM – 1 PM\n Center Place\, Spokane Valley\n\n\n\nWhether you’re a longtime supporter\, a first-time guest\, or someone looking to invest in community change — this table has a seat for you.\n\n\n Scan the QR code to secure your ticket today. Don’t wait… this event always draws a crowd for a reason.\n\n\n#WhiteRoseBrunch #LinksIncorporated #SpokaneEvents
URL:https://trybepnw.com/event/white-rose-brunch-2/
LOCATION:CenterPlace Regional Event Center\, 2426 N Discovery Pl\, Spokane Valley\, 99216\, United States
CATEGORIES:Community Event,Luncheon
ATTACH;FMTTYPE=image/jpeg:https://trybepnw.com/wp-content/uploads/2026/03/662067603_122204842592366884_7938318784776301153_n.jpg
END:VEVENT
BEGIN:VEVENT
DTSTART;TZID=UTC:20260517T150000
DTEND;TZID=UTC:20260517T180000
DTSTAMP:20260424T133859
CREATED:20260326T162851Z
LAST-MODIFIED:20260326T162851Z
UID:3934-1779030000-1779040800@trybepnw.com
SUMMARY:2nd Annual Haitian Flag Day Heritage Celebration
DESCRIPTION:Haitian Flag Day Heritage Celebration is a community event honoring the strength of diversity and celebrating cultural traditions in Spokane. The event will feature cultural performances\, free food\, and the opportunity to connect with local nonprofits.\n\nDate and time: Sunday\, May 17th from 3-6 PM\nLocation:  First Presbyterian Church of Spokane.
URL:https://trybepnw.com/event/2nd-annual-haitian-flag-day-heritage-celebration/
LOCATION:First Presbyterian Church of Spokane
CATEGORIES:Community Event
ATTACH;FMTTYPE=image/png:https://trybepnw.com/wp-content/uploads/2026/03/Flag-Day-Mark-Your-Calendars-scaled.png
ORGANIZER;CN="Creole Resources":MAILTO:info@creoleresources.com
END:VEVENT
BEGIN:VEVENT
DTSTART;TZID=UTC:20260519T170000
DTEND;TZID=UTC:20260519T200000
DTSTAMP:20260424T133859
CREATED:20260213T101133Z
LAST-MODIFIED:20260213T101133Z
UID:3657-1779210000-1779220800@trybepnw.com
SUMMARY:Lost Black History – Cultural Immersion Dinner
DESCRIPTION:Join EEG for an intimate Cultural Immersion Dinner designed to center history\, storytelling\, and cultural preservation through food. \nThis five-course dining experience at Dry Fly Distillery will feature Chef Avant\, who will guide guests through the cultural background of each dish\, highlighting the culinary traditions rooted in African American heritage. \nThe evening will also include a mini-documentary exploring the history of the once 22 percent Black coal-mining town of Roslyn\, Washington\, and the migration of its Spokane descendants. \nThis event aims to educate community members\, potential funders\, and private donors about EEG’s vision and plans for the Inland Northwest African American Museum. \nDate: Tuesday\, May 19\, 2026 Location: Dry Fly DistillerySpokane\, WA \nEvent Type: In-personFormat: Five-course dinner and documentary presentation \nThis is an intimate event. Advance participation is encouraged.
URL:https://trybepnw.com/event/lost-black-history-cultural-immersion-dinner/
LOCATION:Dry Fly Distillery\, 1021 w riverside ave\, spokane\, WA\, 99201\, United States
CATEGORIES:Community Event,Dinner,Historical Event
ATTACH;FMTTYPE=image/png:https://trybepnw.com/wp-content/uploads/2026/02/Screenshot-2026-02-13-020611.png
ORGANIZER;CN="EEG - Educate%2C Entertain%2C & Get Things Done":MAILTO:eeginformation@gmail.com
END:VEVENT
BEGIN:VEVENT
DTSTART;TZID=UTC:20260617T123000
DTEND;TZID=UTC:20260617T163000
DTSTAMP:20260424T133859
CREATED:20260326T160432Z
LAST-MODIFIED:20260326T160432Z
UID:3924-1781699400-1781713800@trybepnw.com
SUMMARY:Free Legal Clinic
DESCRIPTION: FREE Legal Clinic – Get Help with Your Legal Questions! Wednesday\, June 17th\, 2026 12:30 PM – 4:30 PM (check‑in by 4:00 PM) The Carl Maxey Center – 3114 E 5th Ave\, Spokane\, WA 99207\nAre you facing a legal issue and not sure what to do next? Join us for a FREE Legal Clinic hosted by the Sandy Williams Justice Center\, a part of the Carl Maxey Center!  Chat one‑on‑one with volunteer attorneys and legal professionals Get advice and guidance to help you understand your options Learn how to navigate your legal situation with confidenceThis is a 30‑minute legal consultation: perfect if you’re unsure where to start or need clarity on your next steps.\n How it Works: Plan to arrive early and check in by 4:00 PM Consultations are on a first‑come\, first‑served basis Legal professionals will not be able to represent you in court\, but they can help you understand your case and possible options Pre‑registration is available via email: selfhelp@carlmaxeycenter.org  Link to Intake Form: carlmaxeycenter.org/swjc\n Bring any documents or notes related to your situation to make the most of your consultation!\nHelp spread the word. Share this post with your friends and family who might benefit!
URL:https://trybepnw.com/event/free-legal-clinic-5/
LOCATION:Carl Maxey Center\, 3114 E 5th Ave\, Spokane\, WA\, 99202\, United States
CATEGORIES:Resource Drive
ATTACH;FMTTYPE=image/jpeg:https://trybepnw.com/wp-content/uploads/2026/03/cmc_junelegalclinic.jpg
END:VEVENT
BEGIN:VEVENT
DTSTART;TZID=UTC:20260715T023000
DTEND;TZID=UTC:20260715T163000
DTSTAMP:20260424T133859
CREATED:20260326T160859Z
LAST-MODIFIED:20260326T160859Z
UID:3927-1784082600-1784133000@trybepnw.com
SUMMARY:Free Legal Clinic
DESCRIPTION: FREE Legal Clinic – Get Help with Your Legal Questions! Wednesday\, July 15th\, 2026 12:30 PM – 4:30 PM (check‑in by 4:00 PM) The Carl Maxey Center – 3114 E 5th Ave\, Spokane\, WA 99207 ￼\nAre you facing a legal issue and not sure what to do next? Join us for a FREE Legal Clinic hosted by the Sandy Williams Justice Center\, a part of the Carl Maxey Center! ￼ Chat one‑on‑one with volunteer attorneys and legal professionals Get advice and guidance to help you understand your options Learn how to navigate your legal situation with confidenceThis is a 30‑minute legal consultation: perfect if you’re unsure where to start or need clarity on your next steps. ￼\n How it Works: Plan to arrive early and check in by 4:00 PM Consultations are on a first‑come\, first‑served basis Legal professionals will not be able to represent you in court\, but they can help you understand your case and possible options Pre‑registration is available via email: selfhelp@carlmaxeycenter.org ￼ Link to Intake Form: carlmaxeycenter.org/swjc\n Bring any documents or notes related to your situation to make the most of your consultation!\nHelp spread the word. Share this post with your friends and family who might benefit!
URL:https://trybepnw.com/event/free-legal-clinic-6/
LOCATION:Carl Maxey Center\, 3114 E 5th Ave\, Spokane\, WA\, 99202\, United States
CATEGORIES:Resource Drive
ATTACH;FMTTYPE=image/jpeg:https://trybepnw.com/wp-content/uploads/2026/03/cmc_julylegalclinic.jpg
END:VEVENT
END:VCALENDAR